BEGIN:VCALENDAR
VERSION:2.0
PRODID:-//Ecole St-Martin - ECPv6.15.18//NONSGML v1.0//EN
CALSCALE:GREGORIAN
METHOD:PUBLISH
X-WR-CALNAME:Ecole St-Martin
X-ORIGINAL-URL:https://www.ecole-stmartin.com
X-WR-CALDESC:Évènements pour Ecole St-Martin
REFRESH-INTERVAL;VALUE=DURATION:PT1H
X-Robots-Tag:noindex
X-PUBLISHED-TTL:PT1H
BEGIN:VTIMEZONE
TZID:Europe/Paris
BEGIN:DAYLIGHT
TZOFFSETFROM:+0100
TZOFFSETTO:+0200
TZNAME:CEST
DTSTART:20250330T010000
END:DAYLIGHT
BEGIN:STANDARD
TZOFFSETFROM:+0200
TZOFFSETTO:+0100
TZNAME:CET
DTSTART:20251026T010000
END:STANDARD
BEGIN:DAYLIGHT
TZOFFSETFROM:+0100
TZOFFSETTO:+0200
TZNAME:CEST
DTSTART:20260329T010000
END:DAYLIGHT
BEGIN:STANDARD
TZOFFSETFROM:+0200
TZOFFSETTO:+0100
TZNAME:CET
DTSTART:20261025T010000
END:STANDARD
BEGIN:DAYLIGHT
TZOFFSETFROM:+0100
TZOFFSETTO:+0200
TZNAME:CEST
DTSTART:20270328T010000
END:DAYLIGHT
BEGIN:STANDARD
TZOFFSETFROM:+0200
TZOFFSETTO:+0100
TZNAME:CET
DTSTART:20271031T010000
END:STANDARD
END:VTIMEZONE
BEGIN:VEVENT
DTSTART;TZID=Europe/Paris:20260117T100000
DTEND;TZID=Europe/Paris:20260117T120000
DTSTAMP:20260424T120652
CREATED:20260102T113158Z
LAST-MODIFIED:20260114T101128Z
UID:2567-1768644000-1768651200@www.ecole-stmartin.com
SUMMARY:Portes ouvertes de l'école
DESCRIPTION:Portes Ouvertes le 17 Janvier 2026 – 10h – 12h \nDécouverte de l’école \nRencontre avec les enseignantes \nEchanges avec les associations de parents \n 
URL:https://www.ecole-stmartin.com/evenement/portes-ouvertes-de-lecole/
LOCATION:Ecole St-Martin\, 18\, rue Julienne David\, Saint-Mars du Désert\, 44850\, France
CATEGORIES:Ecole
END:VEVENT
END:VCALENDAR