BEGIN:VCALENDAR
VERSION:2.0
PRODID:-//Ecole St-Martin - ECPv6.15.18//NONSGML v1.0//EN
CALSCALE:GREGORIAN
METHOD:PUBLISH
X-WR-CALNAME:Ecole St-Martin
X-ORIGINAL-URL:https://www.ecole-stmartin.com
X-WR-CALDESC:Évènements pour Ecole St-Martin
REFRESH-INTERVAL;VALUE=DURATION:PT1H
X-Robots-Tag:noindex
X-PUBLISHED-TTL:PT1H
BEGIN:VTIMEZONE
TZID:Europe/Paris
BEGIN:DAYLIGHT
TZOFFSETFROM:+0100
TZOFFSETTO:+0200
TZNAME:CEST
DTSTART:20250330T010000
END:DAYLIGHT
BEGIN:STANDARD
TZOFFSETFROM:+0200
TZOFFSETTO:+0100
TZNAME:CET
DTSTART:20251026T010000
END:STANDARD
BEGIN:DAYLIGHT
TZOFFSETFROM:+0100
TZOFFSETTO:+0200
TZNAME:CEST
DTSTART:20260329T010000
END:DAYLIGHT
BEGIN:STANDARD
TZOFFSETFROM:+0200
TZOFFSETTO:+0100
TZNAME:CET
DTSTART:20261025T010000
END:STANDARD
BEGIN:DAYLIGHT
TZOFFSETFROM:+0100
TZOFFSETTO:+0200
TZNAME:CEST
DTSTART:20270328T010000
END:DAYLIGHT
BEGIN:STANDARD
TZOFFSETFROM:+0200
TZOFFSETTO:+0100
TZNAME:CET
DTSTART:20271031T010000
END:STANDARD
END:VTIMEZONE
BEGIN:VEVENT
DTSTART;VALUE=DATE:20260507
DTEND;VALUE=DATE:20260508
DTSTAMP:20260424T103704
CREATED:20260318T212545Z
LAST-MODIFIED:20260318T212545Z
UID:2608-1778112000-1778198399@www.ecole-stmartin.com
SUMMARY:Photo de classe : prêts\, souriez\, clic !
DESCRIPTION:Prêt pour la photo de classe ? \nElle se déroulera le 07/05/2026 à l’école.
URL:https://www.ecole-stmartin.com/evenement/photo-de-classe-prets-souriez-clic/
LOCATION:Ecole St-Martin\, 18\, rue Julienne David\, Saint-Mars du Désert\, 44850\, France
END:VEVENT
END:VCALENDAR